BEGIN:VCALENDAR
VERSION:2.0
PRODID:-//ExpressionEngine Easy iCalendar plugin//NONSGML v2.0.1//EN
X-WR-TIMEZONE:America/New_York
X-WR-CALNAME:Upcoming Auctions
BEGIN:VEVENT
UID:160891
DTSTAMP:20260522T100000
DTSTART:20260522T100000
DTEND:20260522T110000
SUMMARY:2-STORY CAPE COD 1.0 +/- AC ANTIQUES\, FURNITURE\, HOUSEHOLD G
 OODS\, & MORE!
LOCATION:626 AUGUSTINE-HERMAN HIGHWAY\, ELKTON\, MD 21921\, US
DESCRIPTION:PUBLIC AUCTION-ELKTON\, MD
URL:https://www.jayedwardsauction.com/auctions/detail/bw160891
SEQUENCE:1
END:VEVENT
END:VCALENDAR